BEGIN:VCALENDAR
VERSION:2.0
PRODID:-//hacksw/handcal//NONSGML v1.0//EN
CALSCALE:GREGORIAN
BEGIN:VEVENT
DTEND:20060922T230000Z
UID:69ed74b668f17
DTSTAMP:20260426T031310Z
LOCATION:0 Mönchengladbach
DESCRIPTION:
URL;VALUE=URI:
SUMMARY:Mönchengladbacher Feuerwehrlauf u. LGM Halbmarathon
DTSTART:20060922T230000Z
END:VEVENT
END:VCALENDAR
An internal server error occurred.