BEGIN:VCALENDAR
VERSION:2.0
PRODID:-//hacksw/handcal//NONSGML v1.0//EN
CALSCALE:GREGORIAN
BEGIN:VEVENT
DTEND:20060922T230000Z
UID:69ecf42e5c733
DTSTAMP:20260425T180446Z
LOCATION:0 Heimerzheim
DESCRIPTION:
URL;VALUE=URI:
SUMMARY:17.Intern. Heimerzheimer Halbmarathon mit 27. Swisttaler Volkslauf
DTSTART:20060922T230000Z
END:VEVENT
END:VCALENDAR
An internal server error occurred.