BEGIN:VCALENDAR
VERSION:2.0
PRODID:-//hacksw/handcal//NONSGML v1.0//EN
CALSCALE:GREGORIAN
BEGIN:VEVENT
DTEND:20060923T230000Z
UID:69ed939973a07
DTSTAMP:20260426T052457Z
LOCATION:0 Karlsruhe
DESCRIPTION:
URL;VALUE=URI:
SUMMARY:24. FIDUCIA Baden-Marathon Karlsruhe mit LBS-Halbmarathon
DTSTART:20060923T230000Z
END:VEVENT
END:VCALENDAR
An internal server error occurred.