BEGIN:VCALENDAR
VERSION:2.0
PRODID:-//hacksw/handcal//NONSGML v1.0//EN
CALSCALE:GREGORIAN
BEGIN:VEVENT
DTEND:20060923T230000Z
UID:69ebdf5b0df44
DTSTAMP:20260424T222339Z
LOCATION:0 Georgi
DESCRIPTION:
URL;VALUE=URI:
SUMMARY:27.Esslinger Schurwaldlauf Lauf zum Heart & Sole-Cup
DTSTART:20060923T230000Z
END:VEVENT
END:VCALENDAR
An internal server error occurred.