BEGIN:VCALENDAR
VERSION:2.0
PRODID:-//hacksw/handcal//NONSGML v1.0//EN
CALSCALE:GREGORIAN
BEGIN:VEVENT
DTEND:20060929T230000Z
UID:69eb2ab2bf2ee
DTSTAMP:20260424T093250Z
LOCATION:0 Hofheim-Wildsachsen
DESCRIPTION:
URL;VALUE=URI:
SUMMARY:"3.Süwag Energielauf ""Wildsächser Wald- und Weiherlauf"""
DTSTART:20060929T230000Z
END:VEVENT
END:VCALENDAR
An internal server error occurred.