BEGIN:VCALENDAR
VERSION:2.0
PRODID:-//hacksw/handcal//NONSGML v1.0//EN
CALSCALE:GREGORIAN
BEGIN:VEVENT
DTEND:20051119T230000Z
UID:69ed3dbed4f89
DTSTAMP:20260425T231838Z
LOCATION:0 Mönchengladbach
DESCRIPTION:
URL;VALUE=URI:
SUMMARY:31. Mönchengladbacher Herbsthalbmarathon mit 10 km Lauf + Wandern
DTSTART:20051119T230000Z
END:VEVENT
END:VCALENDAR
An internal server error occurred.