BEGIN:VCALENDAR
VERSION:2.0
PRODID:-//hacksw/handcal//NONSGML v1.0//EN
CALSCALE:GREGORIAN
BEGIN:VEVENT
DTEND:20050923T230000Z
UID:69ed8fccdd8c1
DTSTAMP:20260426T050844Z
LOCATION:0 Wuppertal
DESCRIPTION:
URL;VALUE=URI:
SUMMARY:39. Wuppertaler Volkslauf "Rund um die Rondsdorfer Talsperre"
DTSTART:20050923T230000Z
END:VEVENT
END:VCALENDAR
An internal server error occurred.