BEGIN:VCALENDAR
VERSION:2.0
PRODID:-//hacksw/handcal//NONSGML v1.0//EN
CALSCALE:GREGORIAN
BEGIN:VEVENT
DTEND:20050923T230000Z
UID:69ed6bba4a5b4
DTSTAMP:20260426T023450Z
LOCATION:0 Heimerzheim
DESCRIPTION:
URL;VALUE=URI:
SUMMARY:16. Int. Heimerzheimer Halbmarathon mit 26. Swisttaler Volkslauf
DTSTART:20050923T230000Z
END:VEVENT
END:VCALENDAR
An internal server error occurred.