BEGIN:VCALENDAR
VERSION:2.0
PRODID:-//hacksw/handcal//NONSGML v1.0//EN
CALSCALE:GREGORIAN
BEGIN:VEVENT
DTEND:20050617T230000Z
UID:69ed7925814fb
DTSTAMP:20260426T033205Z
LOCATION:0 Herzogenrath
DESCRIPTION:
URL;VALUE=URI:
SUMMARY:36. Int. Volkslauf\, WA u. Wandertag/27. Int. HM/8. Eurode HM
DTSTART:20050617T230000Z
END:VEVENT
END:VCALENDAR
An internal server error occurred.