BEGIN:VCALENDAR
VERSION:2.0
PRODID:-//hacksw/handcal//NONSGML v1.0//EN
CALSCALE:GREGORIAN
BEGIN:VEVENT
DTEND:20050219T230000Z
UID:69ed86f280644
DTSTAMP:20260426T043058Z
LOCATION:0 Köln
DESCRIPTION:
URL;VALUE=URI:
SUMMARY:21. Winterlaufserie des GSV Porz 2004\, 3. Lauf
DTSTART:20050219T230000Z
END:VEVENT
END:VCALENDAR
An internal server error occurred.