BEGIN:VCALENDAR
VERSION:2.0
PRODID:-//hacksw/handcal//NONSGML v1.0//EN
CALSCALE:GREGORIAN
BEGIN:VEVENT
DTEND:20050205T230000Z
UID:69ed412feb2ed
DTSTAMP:20260425T233319Z
LOCATION:0 Köln
DESCRIPTION:
URL;VALUE=URI:
SUMMARY:21. Winterlaufserie des GSV Porz 2004\, 2. Lauf
DTSTART:20050205T230000Z
END:VEVENT
END:VCALENDAR
An internal server error occurred.