BEGIN:VCALENDAR
VERSION:2.0
PRODID:-//hacksw/handcal//NONSGML v1.0//EN
CALSCALE:GREGORIAN
BEGIN:VEVENT
DTEND:20051007T230000Z
UID:69ed6bd19e9af
DTSTAMP:20260426T023513Z
LOCATION:0 Ehrenfriedersdorf
DESCRIPTION:
URL;VALUE=URI:
SUMMARY:15. Röhrgraben-Lauf / 12. Lauf Lichtenauer Sachsen-Cup 2005
DTSTART:20051007T230000Z
END:VEVENT
END:VCALENDAR
An internal server error occurred.