BEGIN:VCALENDAR
VERSION:2.0
PRODID:-//hacksw/handcal//NONSGML v1.0//EN
CALSCALE:GREGORIAN
BEGIN:VEVENT
DTEND:20050924T230000Z
UID:69ed8fcfb2aea
DTSTAMP:20260426T050847Z
LOCATION:0 Bischofswerda
DESCRIPTION:
URL;VALUE=URI:
SUMMARY:5. Lauf Rund um den Butterberg/11. Lauf Lichtenauer Sachsen-Cup 2005
DTSTART:20050924T230000Z
END:VEVENT
END:VCALENDAR
An internal server error occurred.