BEGIN:VCALENDAR
VERSION:2.0
PRODID:-//hacksw/handcal//NONSGML v1.0//EN
CALSCALE:GREGORIAN
BEGIN:VEVENT
DTEND:20050812T230000Z
UID:69ed6bcc2ee1c
DTSTAMP:20260426T023508Z
LOCATION:0 Leipzig
DESCRIPTION:
URL;VALUE=URI:
SUMMARY:16. Leipziger 100-km-Lauf / 11. Leipziger 50-km-Lauf
DTSTART:20050812T230000Z
END:VEVENT
END:VCALENDAR
An internal server error occurred.