BEGIN:VCALENDAR
VERSION:2.0
PRODID:-//hacksw/handcal//NONSGML v1.0//EN
CALSCALE:GREGORIAN
BEGIN:VEVENT
DTEND:20050507T230000Z
UID:69ed93929dc3f
DTSTAMP:20260426T052450Z
LOCATION:0 Kamenz
DESCRIPTION:
URL;VALUE=URI:
SUMMARY:7. Blütenlauf auf dem Kamenzer Hutberg / 8. Lauf Lichtenauer Sachsen-Cup 2005
DTSTART:20050507T230000Z
END:VEVENT
END:VCALENDAR
An internal server error occurred.