BEGIN:VCALENDAR
VERSION:2.0
PRODID:-//hacksw/handcal//NONSGML v1.0//EN
CALSCALE:GREGORIAN
BEGIN:VEVENT
DTEND:20050430T230000Z
UID:69ebe85799e3d
DTSTAMP:20260424T230159Z
LOCATION:0 Hohburg
DESCRIPTION:
URL;VALUE=URI:
SUMMARY:8. Hohburger Steinbruchlauf / 7.Lauf Lichtenauer Sachsen-Cup 2005
DTSTART:20050430T230000Z
END:VEVENT
END:VCALENDAR
An internal server error occurred.