BEGIN:VCALENDAR
VERSION:2.0
PRODID:-//hacksw/handcal//NONSGML v1.0//EN
CALSCALE:GREGORIAN
BEGIN:VEVENT
DTEND:20050318T230000Z
UID:69ed392d87f3b
DTSTAMP:20260425T225909Z
LOCATION:0 Hohenbocka
DESCRIPTION:
URL;VALUE=URI:
SUMMARY:12. Lauf Durch die Bucksche Schweiz / 4.Lauf Lichtenauer Sachsen-Cup 2005
DTSTART:20050318T230000Z
END:VEVENT
END:VCALENDAR
An internal server error occurred.