BEGIN:VCALENDAR
VERSION:2.0
PRODID:-//hacksw/handcal//NONSGML v1.0//EN
CALSCALE:GREGORIAN
BEGIN:VEVENT
DTEND:20051008T230000Z
UID:69eb2ab552d88
DTSTAMP:20260424T093253Z
LOCATION:0 Herrenberg-Kuppingen
DESCRIPTION:
URL;VALUE=URI:
SUMMARY:12. Kuppinger Zigeunerberglauf. Letzter WL Schönbuch-Cup
DTSTART:20051008T230000Z
END:VEVENT
END:VCALENDAR
An internal server error occurred.