BEGIN:VCALENDAR
VERSION:2.0
PRODID:-//hacksw/handcal//NONSGML v1.0//EN
CALSCALE:GREGORIAN
BEGIN:VEVENT
DTEND:20050924T230000Z
UID:69ecb8223efdd
DTSTAMP:20260425T134834Z
LOCATION:0 Weil der Stadt
DESCRIPTION:
URL;VALUE=URI:
SUMMARY:Benefizlauf- 2. Stadtlauf fürs Klösterle
DTSTART:20050924T230000Z
END:VEVENT
END:VCALENDAR
An internal server error occurred.