BEGIN:VCALENDAR
VERSION:2.0
PRODID:-//hacksw/handcal//NONSGML v1.0//EN
CALSCALE:GREGORIAN
BEGIN:VEVENT
DTEND:20050924T230000Z
UID:69ebdf54f0e72
DTSTAMP:20260424T222332Z
LOCATION:0 Deizisau
DESCRIPTION:
URL;VALUE=URI:
SUMMARY:26. Esslinger Schurwaldlauf. Lauf zum Heart&Sole-Cup 2005
DTSTART:20050924T230000Z
END:VEVENT
END:VCALENDAR
An internal server error occurred.