BEGIN:VCALENDAR
VERSION:2.0
PRODID:-//hacksw/handcal//NONSGML v1.0//EN
CALSCALE:GREGORIAN
BEGIN:VEVENT
DTEND:20050712T230000Z
UID:69eca7b9948d6
DTSTAMP:20260425T123833Z
LOCATION:0 Bergatreute
DESCRIPTION:
URL;VALUE=URI:
SUMMARY:11. Soldatenheimlauf-Cup mit sechs Läufen (5. Lauf)
DTSTART:20050712T230000Z
END:VEVENT
END:VCALENDAR
An internal server error occurred.