BEGIN:VCALENDAR
VERSION:2.0
PRODID:-//hacksw/handcal//NONSGML v1.0//EN
CALSCALE:GREGORIAN
BEGIN:VEVENT
DTEND:20050624T230000Z
UID:69ec15870cbb5
DTSTAMP:20260425T021447Z
LOCATION:0 Langenburg-Atzenrod
DESCRIPTION:
URL;VALUE=URI:
SUMMARY:12. Volkslauf-Stadtlauf "Rund um Atzenrod"
DTSTART:20050624T230000Z
END:VEVENT
END:VCALENDAR
An internal server error occurred.