BEGIN:VCALENDAR
VERSION:2.0
PRODID:-//hacksw/handcal//NONSGML v1.0//EN
CALSCALE:GREGORIAN
BEGIN:VEVENT
DTEND:20050531T230000Z
UID:69ec23d33b26f
DTSTAMP:20260425T031547Z
LOCATION:0 Bergatreute
DESCRIPTION:
URL;VALUE=URI:
SUMMARY:11. Soldatenheimlauf-Cup mit sechs Läufen (2. Lauf)
DTSTART:20050531T230000Z
END:VEVENT
END:VCALENDAR
An internal server error occurred.