BEGIN:VCALENDAR
VERSION:2.0
PRODID:-//hacksw/handcal//NONSGML v1.0//EN
CALSCALE:GREGORIAN
BEGIN:VEVENT
DTEND:20050426T230000Z
UID:69ece2c7c8ec2
DTSTAMP:20260425T165031Z
LOCATION:0 Pfullendorf
DESCRIPTION:
URL;VALUE=URI:
SUMMARY:11. Soldatenheimlauf-Cup mit sechs Läufen (1.Lauf)
DTSTART:20050426T230000Z
END:VEVENT
END:VCALENDAR
An internal server error occurred.