BEGIN:VCALENDAR
VERSION:2.0
PRODID:-//hacksw/handcal//NONSGML v1.0//EN
CALSCALE:GREGORIAN
BEGIN:VEVENT
DTEND:20050422T230000Z
UID:69e93b82d1fb8
DTSTAMP:20260422T222002Z
LOCATION:0 Weingarten
DESCRIPTION:
URL;VALUE=URI:
SUMMARY:20. Ravensburger Frühlingslauf "Rund um Schmalegg"
DTSTART:20050422T230000Z
END:VEVENT
END:VCALENDAR
An internal server error occurred.