BEGIN:VCALENDAR
VERSION:2.0
PRODID:-//hacksw/handcal//NONSGML v1.0//EN
CALSCALE:GREGORIAN
BEGIN:VEVENT
DTEND:20050409T230000Z
UID:69ed87029cbcd
DTSTAMP:20260426T043114Z
LOCATION:0 Reutlingen/Ohmenhausen
DESCRIPTION:
URL;VALUE=URI:
SUMMARY:26. Frühjahrsvolkslauf 10 km Reutlingen-Ohmenhausen
DTSTART:20050409T230000Z
END:VEVENT
END:VCALENDAR
An internal server error occurred.