BEGIN:VCALENDAR
VERSION:2.0
PRODID:-//hacksw/handcal//NONSGML v1.0//EN
CALSCALE:GREGORIAN
BEGIN:VEVENT
DTEND:20050312T230000Z
UID:69eb0183489bf
DTSTAMP:20260424T063707Z
LOCATION:0 Nehren
DESCRIPTION:
URL;VALUE=URI:
SUMMARY:4. Wertungslauf (Finale) ALB-GOLD-Winterlaufcup 2005
DTSTART:20050312T230000Z
END:VEVENT
END:VCALENDAR
An internal server error occurred.