BEGIN:VCALENDAR
VERSION:2.0
PRODID:-//hacksw/handcal//NONSGML v1.0//EN
CALSCALE:GREGORIAN
BEGIN:VEVENT
DTEND:20051008T230000Z
UID:69ed824b78eb8
DTSTAMP:20260426T041107Z
LOCATION:0 Bad Hersfeld
DESCRIPTION:
URL;VALUE=URI:
SUMMARY:6. Sauer-Lollslauf /Volkslauf /amtl. vermessener Strassenlauf
DTSTART:20051008T230000Z
END:VEVENT
END:VCALENDAR
An internal server error occurred.