BEGIN:VCALENDAR
VERSION:2.0
PRODID:-//hacksw/handcal//NONSGML v1.0//EN
CALSCALE:GREGORIAN
BEGIN:VEVENT
DTEND:20050917T230000Z
UID:69ed74afd55b4
DTSTAMP:20260426T031303Z
LOCATION:0 Schwalmstadt-Treysa
DESCRIPTION:
URL;VALUE=URI:
SUMMARY:21. Treysaer Stadtlauf zum Michaelismarkt /Volkslauf
DTSTART:20050917T230000Z
END:VEVENT
END:VCALENDAR
An internal server error occurred.