BEGIN:VCALENDAR
VERSION:2.0
PRODID:-//hacksw/handcal//NONSGML v1.0//EN
CALSCALE:GREGORIAN
BEGIN:VEVENT
DTEND:20050913T230000Z
UID:69eca7c3cbb92
DTSTAMP:20260425T123843Z
LOCATION:0 Klein-Umstadt
DESCRIPTION:
URL;VALUE=URI:
SUMMARY:15. Umstädter Winzerfestlauf "Rund um den Stachelberg" /Volkslauf
DTSTART:20050913T230000Z
END:VEVENT
END:VCALENDAR
An internal server error occurred.