BEGIN:VCALENDAR
VERSION:2.0
PRODID:-//hacksw/handcal//NONSGML v1.0//EN
CALSCALE:GREGORIAN
BEGIN:VEVENT
DTEND:20050910T230000Z
UID:69ec153324b6d
DTSTAMP:20260425T021323Z
LOCATION:0 Bad Arolsen
DESCRIPTION:
URL;VALUE=URI:
SUMMARY:29. Twisteseelauf - Traditionsveranstaltung /Volkslauf
DTSTART:20050910T230000Z
END:VEVENT
END:VCALENDAR
An internal server error occurred.