BEGIN:VCALENDAR
VERSION:2.0
PRODID:-//hacksw/handcal//NONSGML v1.0//EN
CALSCALE:GREGORIAN
BEGIN:VEVENT
DTEND:20050903T230000Z
UID:69ed86f7f2128
DTSTAMP:20260426T043103Z
LOCATION:0 Fulda
DESCRIPTION:
URL;VALUE=URI:
SUMMARY:12. Hochstift-Marathon Fulda /Volkslauf /amtl. vermessener Strassenlauf
DTSTART:20050903T230000Z
END:VEVENT
END:VCALENDAR
An internal server error occurred.