BEGIN:VCALENDAR
VERSION:2.0
PRODID:-//hacksw/handcal//NONSGML v1.0//EN
CALSCALE:GREGORIAN
BEGIN:VEVENT
DTEND:20050901T230000Z
UID:69eaa44a5c141
DTSTAMP:20260423T235922Z
LOCATION:0 Frankfurt-Bonames
DESCRIPTION:
URL;VALUE=URI:
SUMMARY:Fitnesslauf durch die Niddaauen /Volkslauf
DTSTART:20050901T230000Z
END:VEVENT
END:VCALENDAR
An internal server error occurred.