BEGIN:VCALENDAR
VERSION:2.0
PRODID:-//hacksw/handcal//NONSGML v1.0//EN
CALSCALE:GREGORIAN
BEGIN:VEVENT
DTEND:20050825T230000Z
UID:69ed7927b7c5b
DTSTAMP:20260426T033207Z
LOCATION:0 Schotten
DESCRIPTION:
URL;VALUE=URI:
SUMMARY:8. Schottener Stauseelauf /Volkslauf /amtl. vermessener Strassenlauf
DTSTART:20050825T230000Z
END:VEVENT
END:VCALENDAR
An internal server error occurred.