BEGIN:VCALENDAR
VERSION:2.0
PRODID:-//hacksw/handcal//NONSGML v1.0//EN
CALSCALE:GREGORIAN
BEGIN:VEVENT
DTEND:20050825T230000Z
UID:69ebf5f0c0078
DTSTAMP:20260425T000000Z
LOCATION:0 Darmstadt-Wixhausen
DESCRIPTION:
URL;VALUE=URI:
SUMMARY:18. Wixhäuser Kerblauf der TSG Wixhausen /Volkslauf
DTSTART:20050825T230000Z
END:VEVENT
END:VCALENDAR
An internal server error occurred.