BEGIN:VCALENDAR
VERSION:2.0
PRODID:-//hacksw/handcal//NONSGML v1.0//EN
CALSCALE:GREGORIAN
BEGIN:VEVENT
DTEND:20050630T230000Z
UID:69ed93969f13c
DTSTAMP:20260426T052454Z
LOCATION:0 Ahnatal-Heckershausen
DESCRIPTION:
URL;VALUE=URI:
SUMMARY:26. Nat. Abendvolkslauf "Rund um den Stahlberg" /Volkslauf
DTSTART:20050630T230000Z
END:VEVENT
END:VCALENDAR
An internal server error occurred.