BEGIN:VCALENDAR
VERSION:2.0
PRODID:-//hacksw/handcal//NONSGML v1.0//EN
CALSCALE:GREGORIAN
BEGIN:VEVENT
DTEND:20050603T230000Z
UID:69ed8fcd58da5
DTSTAMP:20260426T050845Z
LOCATION:0 Lampertheim
DESCRIPTION:
URL;VALUE=URI:
SUMMARY:17. EWR - Spargellauf /Volkslauf /amtl. vermessener Strassenlauf
DTSTART:20050603T230000Z
END:VEVENT
END:VCALENDAR
An internal server error occurred.