BEGIN:VCALENDAR
VERSION:2.0
PRODID:-//hacksw/handcal//NONSGML v1.0//EN
CALSCALE:GREGORIAN
BEGIN:VEVENT
DTEND:20050527T230000Z
UID:69ed474d600a3
DTSTAMP:20260425T235925Z
LOCATION:0 Altenstadt
DESCRIPTION:
URL;VALUE=URI:
SUMMARY:11. Hans-Nachtmann-Lauf (22. Altenstädter Abendlauf) /Volkslauf
DTSTART:20050527T230000Z
END:VEVENT
END:VCALENDAR
An internal server error occurred.