BEGIN:VCALENDAR
VERSION:2.0
PRODID:-//hacksw/handcal//NONSGML v1.0//EN
CALSCALE:GREGORIAN
BEGIN:VEVENT
DTEND:20050525T230000Z
UID:69ed6bbdd46e3
DTSTAMP:20260426T023453Z
LOCATION:0 Frankfurt-Bonames
DESCRIPTION:
URL;VALUE=URI:
SUMMARY:20. Bonameser Volkslauf um den Basler Securitas Cup /Volkslauf
DTSTART:20050525T230000Z
END:VEVENT
END:VCALENDAR
An internal server error occurred.