BEGIN:VCALENDAR
VERSION:2.0
PRODID:-//hacksw/handcal//NONSGML v1.0//EN
CALSCALE:GREGORIAN
BEGIN:VEVENT
DTEND:20050515T230000Z
UID:69eb2ab30dd9a
DTSTAMP:20260424T093251Z
LOCATION:0 Kelkheim-Hornau/Ts.
DESCRIPTION:
URL;VALUE=URI:
SUMMARY:31. Int. Volkslauf und Wandertag /Volkslauf
DTSTART:20050515T230000Z
END:VEVENT
END:VCALENDAR
An internal server error occurred.