BEGIN:VCALENDAR
VERSION:2.0
PRODID:-//hacksw/handcal//NONSGML v1.0//EN
CALSCALE:GREGORIAN
BEGIN:VEVENT
DTEND:20050514T230000Z
UID:69eac5fd25134
DTSTAMP:20260424T022309Z
LOCATION:0 Bad König-Momart/Odw.
DESCRIPTION:
URL;VALUE=URI:
SUMMARY:15. Momarter Volkslauf "Rund um die Eiche" /Volkslauf
DTSTART:20050514T230000Z
END:VEVENT
END:VCALENDAR
An internal server error occurred.