BEGIN:VCALENDAR
VERSION:2.0
PRODID:-//hacksw/handcal//NONSGML v1.0//EN
CALSCALE:GREGORIAN
BEGIN:VEVENT
DTEND:20050513T230000Z
UID:69ed3db9aae06
DTSTAMP:20260425T231833Z
LOCATION:0 Fuldabrück-Dörnhagen
DESCRIPTION:
URL;VALUE=URI:
SUMMARY:30. Int. Söhre-Volkslauf der LTG Fuldabrück e.V. /Volkslauf
DTSTART:20050513T230000Z
END:VEVENT
END:VCALENDAR
An internal server error occurred.