BEGIN:VCALENDAR
VERSION:2.0
PRODID:-//hacksw/handcal//NONSGML v1.0//EN
CALSCALE:GREGORIAN
BEGIN:VEVENT
DTEND:20050513T230000Z
UID:69ed9391b3b5c
DTSTAMP:20260426T052449Z
LOCATION:0 Altenburg
DESCRIPTION:
URL;VALUE=URI:
SUMMARY:5. Schlosswaldlauf des Lauftreff Altenburg /Volkslauf
DTSTART:20050513T230000Z
END:VEVENT
END:VCALENDAR
An internal server error occurred.