BEGIN:VCALENDAR
VERSION:2.0
PRODID:-//hacksw/handcal//NONSGML v1.0//EN
CALSCALE:GREGORIAN
BEGIN:VEVENT
DTEND:20050512T230000Z
UID:69ed8fd044667
DTSTAMP:20260426T050848Z
LOCATION:0 Riedstadt-Wolfskehlen
DESCRIPTION:
URL;VALUE=URI:
SUMMARY:22. Straßenlauf /Volkslauf /amtl. vermessener Strassenlauf
DTSTART:20050512T230000Z
END:VEVENT
END:VCALENDAR
An internal server error occurred.