BEGIN:VCALENDAR
VERSION:2.0
PRODID:-//hacksw/handcal//NONSGML v1.0//EN
CALSCALE:GREGORIAN
BEGIN:VEVENT
DTEND:20050507T230000Z
UID:69eb2ab2230ed
DTSTAMP:20260424T093250Z
LOCATION:0 Burgwald-Bottendorf
DESCRIPTION:
URL;VALUE=URI:
SUMMARY:24. Bottendorfer Burgwald- Volkslauf /Volkslauf
DTSTART:20050507T230000Z
END:VEVENT
END:VCALENDAR
An internal server error occurred.