BEGIN:VCALENDAR
VERSION:2.0
PRODID:-//hacksw/handcal//NONSGML v1.0//EN
CALSCALE:GREGORIAN
BEGIN:VEVENT
DTEND:20050504T230000Z
UID:69ece368bb89f
DTSTAMP:20260425T165312Z
LOCATION:0 Fischbachtal/Odw
DESCRIPTION:
URL;VALUE=URI:
SUMMARY:24. Volkslauf\, Walking- und Wandertag /Volkslauf
DTSTART:20050504T230000Z
END:VEVENT
END:VCALENDAR
An internal server error occurred.