BEGIN:VCALENDAR
VERSION:2.0
PRODID:-//hacksw/handcal//NONSGML v1.0//EN
CALSCALE:GREGORIAN
BEGIN:VEVENT
DTEND:20050430T230000Z
UID:69ec15346fab2
DTSTAMP:20260425T021324Z
LOCATION:0 Witzenhausen-Hundelshausen
DESCRIPTION:
URL;VALUE=URI:
SUMMARY:15. Kirschblütenlauf mit Walking und Wandertag /Volkslauf
DTSTART:20050430T230000Z
END:VEVENT
END:VCALENDAR
An internal server error occurred.