BEGIN:VCALENDAR
VERSION:2.0
PRODID:-//hacksw/handcal//NONSGML v1.0//EN
CALSCALE:GREGORIAN
BEGIN:VEVENT
DTEND:20050430T230000Z
UID:69ebe85dc20ad
DTSTAMP:20260424T230205Z
LOCATION:0 Frankfurt-Nieder-Erlenbach
DESCRIPTION:
URL;VALUE=URI:
SUMMARY:23. Nieder Erlenbacher Volkslauf /Volkslauf
DTSTART:20050430T230000Z
END:VEVENT
END:VCALENDAR
An internal server error occurred.