BEGIN:VCALENDAR
VERSION:2.0
PRODID:-//hacksw/handcal//NONSGML v1.0//EN
CALSCALE:GREGORIAN
BEGIN:VEVENT
DTEND:20050429T230000Z
UID:69ed76db60bd1
DTSTAMP:20260426T032219Z
LOCATION:0 Geisenheim
DESCRIPTION:
URL;VALUE=URI:
SUMMARY:8. Geisenheimer Intersport Lauf /Volkslauf /Strassenlauf
DTSTART:20050429T230000Z
END:VEVENT
END:VCALENDAR
An internal server error occurred.