BEGIN:VCALENDAR
VERSION:2.0
PRODID:-//hacksw/handcal//NONSGML v1.0//EN
CALSCALE:GREGORIAN
BEGIN:VEVENT
DTEND:20050924T230000Z
UID:69ed939a5db9b
DTSTAMP:20260426T052458Z
LOCATION:0 Wuppertal
DESCRIPTION:
URL;VALUE=URI:
SUMMARY:Wuppertaler Volkslauf Rund um die Rondsdorfer Talsperre
DTSTART:20050924T230000Z
END:VEVENT
END:VCALENDAR
An internal server error occurred.